BEGIN:VCALENDAR
VERSION:2.0
PRODID:-//Karen Emilia Antoniazzi Wolf - ECPv6.15.3//NONSGML v1.0//EN
CALSCALE:GREGORIAN
METHOD:PUBLISH
X-ORIGINAL-URL:https://karenwolf.com.br/web
X-WR-CALDESC:Events for Karen Emilia Antoniazzi Wolf
REFRESH-INTERVAL;VALUE=DURATION:PT1H
X-Robots-Tag:noindex
X-PUBLISHED-TTL:PT1H
BEGIN:VTIMEZONE
TZID:UTC
BEGIN:STANDARD
TZOFFSETFROM:+0000
TZOFFSETTO:+0000
TZNAME:UTC
DTSTART:20180101T000000
END:STANDARD
END:VTIMEZONE
BEGIN:VEVENT
DTSTART;TZID=UTC:20221029T140000
DTEND;TZID=UTC:20221029T180000
DTSTAMP:20260423T163409
CREATED:20221027T145601Z
LAST-MODIFIED:20221027T150833Z
UID:1285-1667052000-1667066400@karenwolf.com.br
SUMMARY:Sábado Animal acontecerá no dia 29 de outubro:
DESCRIPTION:📌 A Comissão Especial de Direito dos Animais vinculada à OAB subseção Santa Maria vai promover neste sábado\, dia 29/10 o evento Sábado Animal. O evento é voltado para a causa animal e tem como apoiadores: \n\n👉 Projeto 4 Patas\, \n👉 Projeto Akiles \n👉 Mãos que Salvam\n👉 Tampas e Patas\n➡ Durante o encontro estará acontecendo também uma feira de adoção responsável! 🐶🐱\n📌 Além da presença dos apoiadores\, o evento vai contar com banquinhas de alimentos e cosméticos veganos:\n👉 Salu’s\, com sua cozinha artesanal\, bolos\, tortas e focaccias;\n👉 Luciana Cardoso Grazzioli\, com cosméticos naturais;\n👉 Iônica\, com saboaria Natural e Cosmética Artesanal;\n👉 Guria Cosméticos\, com cosméticos naturais;\n👉 Terra Vermelha Bioprodutos Intuitivos \, com cosméticos naturais;\n👉 Biô\, com Bioneses veganas\, feitas com creme vegetal a base de biomassa de banana verde e prebióticos;\n👉 Flor de Tangerina\, com cosméticos artesanais;\n👉 Pé de Couve\, com alimentos veganos;\n👉 Nina Veggie\, com alimentos veganos;\n👉 Casa do Pet\, clínica veterinária.\n🐾 Durante o encontro ocorrerá uma conversa com o público sobre a causa animal.\n➡ Convida teus amigos que apoiam a causa animal\, te esperamos lá! 😽😻\n📅 : 29/10/2022\n⏰ : 14h às 18h\n📍: Praça dos Bombeiros.\nTe esperamos lá! 😻🐾🐾🐶\n 
URL:https://karenwolf.com.br/web/eventos/sabado-animal-acontecera-neste-sabado/
ATTACH;FMTTYPE=image/jpeg:https://karenwolf.com.br/web/wp-content/uploads/2022/10/WhatsApp-Image-2022-10-26-at-16.01.08.jpeg
END:VEVENT
BEGIN:VEVENT
DTSTART;TZID=UTC:20220912T140000
DTEND;TZID=UTC:20220912T153000
DTSTAMP:20260423T163409
CREATED:20220912T232123Z
LAST-MODIFIED:20220912T232123Z
UID:1241-1662991200-1662996600@karenwolf.com.br
SUMMARY:workshop Diálogos de direitos animais
DESCRIPTION:A Comissão Especial de Direitos Animais\, convida a todos e todas para participarem do workshop “Diálogos de direitos animais”.\n\nO evento que irá acontecer na próxima terça-feira (13) às 14h\, será realizado no auditório da subseção da cidade de Santa Maria- RS e contará com a presença da Dra. Paula Zamberlan\, Dra. Viviane Ilha e a Dra. Natiele Batistela.\n\nPara participar não é necessário inscrição prévia.\n\nContamos com a sua participação!
URL:https://karenwolf.com.br/web/eventos/workshop-dialogos-de-direitos-animais/
ATTACH;FMTTYPE=image/jpeg:https://karenwolf.com.br/web/wp-content/uploads/2022/09/oab-santa-maria-direito-animais.jpg
END:VEVENT
BEGIN:VEVENT
DTSTART;VALUE=DATE:20220816
DTEND;VALUE=DATE:20220819
DTSTAMP:20260423T163409
CREATED:20220815T180236Z
LAST-MODIFIED:20220815T180237Z
UID:1202-1660608000-1660867199@karenwolf.com.br
SUMMARY:VIII Congresso Mundial de Bioética e Direito Animal:
DESCRIPTION:VIII Congresso Mundial de Bioética e Direito Animal acontecerá na cidade de Niterói\, no Rio de Janeiro\, nos dias dias 17 e 18\, na Sala Nelson Pereira dos Santos. No dia 16\, as atividades do congresso serão virtuais\, com a formação de grupos de trabalho nos quais serão apresentados artigos para publicação nos anais do evento ou na Revista Latino-americana de Direitos da Natureza e dos Animais para os casos dos artigos de reconhecida relevância científica e que atendam aos critérios editoriais pertinentes.\n\nDentro do congresso se abordarão temas de atualidade sobre o direito animal e a bioética\, gerando discussões acadêmicas sobre as novas perspectivas na área.\n\nPara se inscrever clique aqui
URL:https://karenwolf.com.br/web/eventos/viii-congresso-mundial-de-bioetica-e-direito-animal/
LOCATION:Sala Nelson Pereira dos Santos. \, Niterói\, Brazil
ATTACH;FMTTYPE=image/jpeg:https://karenwolf.com.br/web/wp-content/uploads/2022/08/WhatsApp-Image-2022-08-12-at-15.06.41.jpeg
END:VEVENT
BEGIN:VEVENT
DTSTART;TZID=UTC:20220607T080000
DTEND;TZID=UTC:20220607T170000
DTSTAMP:20260423T163409
CREATED:20220610T204803Z
LAST-MODIFIED:20220610T204804Z
UID:1124-1654588800-1654621200@karenwolf.com.br
SUMMARY:Podcast “O Juridiquês” traz fala de Professora Karen Emília Antoniazzi Wolf:
DESCRIPTION:A professora Karen Emília Wolf participou da edição de número 003 do podcast “O Juridiquês”\, onde destacou o tema “Cosmopolitismo e a condição jurídica de pessoa e de sujeitos de direitos do animal não humano”\, um de seus eixos de pesquisa e estudo.\n\nPara ouvir o Podcast\, clique aqui
URL:https://karenwolf.com.br/web/eventos/podcast-o-juridiques-traz-fala-de-professora-karen-emilia-antoniazzi-wolf/
ATTACH;FMTTYPE=image/jpeg:https://karenwolf.com.br/web/wp-content/uploads/2022/06/karen.jpg
END:VEVENT
BEGIN:VEVENT
DTSTART;TZID=UTC:20220409T180000
DTEND;TZID=UTC:20220409T190000
DTSTAMP:20260423T163409
CREATED:20220405T184017Z
LAST-MODIFIED:20220405T184018Z
UID:1023-1649527200-1649530800@karenwolf.com.br
SUMMARY:Direitos Fundamentais e Diversidade: LGBT\, Teoria Queer e Animais
DESCRIPTION:No dia 9 de abril de 2022 às 18h00min\, acontecerá o evento Direitos Fundamentais e Diversidade: LGBT\, Teoria Queer e Animais. O evento\, que contará com a participação da Doutoranda em Direito pela Universidade do Vale do Rio dos Sinos e advogada Karen Emília Antoniazzi Wolf\, será transmitido online pelo Núcleo de Direitos Humanos Mariele Franco do Instituto Federal do Paraná. O evento é gratuito e aqueles que desejam se inscrever\, devem entrar em contato com o número (41) 98897-2318.
URL:https://karenwolf.com.br/web/eventos/direitos-fundamentais-e-diversidade-lgbt-teoria-queer-e-animais/
ATTACH;FMTTYPE=image/jpeg:https://karenwolf.com.br/web/wp-content/uploads/2022/04/WhatsApp-Image-2022-04-05-at-10.27.45.jpeg
END:VEVENT
BEGIN:VEVENT
DTSTART;TZID=UTC:20220311T183000
DTEND;TZID=UTC:20220311T193000
DTSTAMP:20260423T163409
CREATED:20220308T000854Z
LAST-MODIFIED:20220308T000855Z
UID:963-1647023400-1647027000@karenwolf.com.br
SUMMARY:Café com Tese - Onde estão os animais?
DESCRIPTION:Em 11 de março de 2022 ocorrerá o evento Café com Tese – Onde estão os animais?\n\nO evento\, que contará com a participação do Dr. Jailson Rocha (UFPB) e da Dra. Waleska Cardoso (UFPR)\, será transmitido via Google Meet e tem como propósito trazer debates acerca da crítica animalista\, dando destaque à aspectos teóricos e práticos sobre o tema. \n\nO evento será gratuito\, às 18h30min e mediante acesso neste link.
URL:https://karenwolf.com.br/web/eventos/cafe-com-tese-onde-estao-os-animais/
ATTACH;FMTTYPE=image/jpeg:https://karenwolf.com.br/web/wp-content/uploads/2022/03/WhatsApp-Image-2022-03-07-at-16.20.37-1.jpeg
END:VEVENT
BEGIN:VEVENT
DTSTART;TZID=UTC:20211208T090000
DTEND;TZID=UTC:20211208T110000
DTSTAMP:20260423T163409
CREATED:20211117T012839Z
LAST-MODIFIED:20211117T012841Z
UID:847-1638954000-1638961200@karenwolf.com.br
SUMMARY:Lançamento do Livro Direitos Não-humanos - Bienal RJ
DESCRIPTION:Na data de 08 de dezembro de 2021 ocorrerá o lançamento da obra “ Direitos não-humanos”\, organizada por Wilson Madeira Filho e por Evelym Pipas Morgado e confeccionada em versão impressa e digital pela Editora Autografia em parceria com a Editora PPGSD-UFF. \n\nA obra conta com a produção  “Movimento animalista: mudanças paradigmáticas e seus reflexos através de uma nova roupagem nos movimentos sociais”\, de autoria da professora Karen Wolf em parceria com Cristian Reginato. \n\nO evento de lançamento acontecerá em 08 de dezembro de 2021\, das 9h às 13h30\, no stand da Autografia.\n\nSerá exigido comprovante de vacinação e o ingresso pode ser adquirido neste link.
URL:https://karenwolf.com.br/web/eventos/lancamento-do-livro-direitos-nao-humanos-bienal-rj/
ATTACH;FMTTYPE=image/png:https://karenwolf.com.br/web/wp-content/uploads/2021/11/Capturar-1.png
END:VEVENT
BEGIN:VEVENT
DTSTART;TZID=UTC:20211204T140000
DTEND;TZID=UTC:20211204T153000
DTSTAMP:20260423T163409
CREATED:20211202T231919Z
LAST-MODIFIED:20211202T231920Z
UID:880-1638626400-1638631800@karenwolf.com.br
SUMMARY:Jurisdição internacional e Direitos Humanos: cosmopolitismo jurídico e dignidade animal
DESCRIPTION:Na data de 04/12/2021\, próximo sábado\, ocorrerá o evento “Jurisdição internacional e Direitos Humanos: cosmopolitismo jurídico e dignidade animal”\, cuja abertura se dará às 14h.\n\nComo parte do evento\, a Professora Karen Wolf fará participação\, a partir das 15h\, debatendo o tema “cosmopolíticas e dignidade animal”.\n\nAs inscrições podem ser realizadas no link disponível no card de divulgação\, assim como o código de acesso\, que será mediante utilização da plataforma Google Meet.
URL:https://karenwolf.com.br/web/eventos/jurisdicao-internacional-e-direitos-humanos-cosmopolitismo-juridico-e-dignidade-animal/
ATTACH;FMTTYPE=image/jpeg:https://karenwolf.com.br/web/wp-content/uploads/2021/12/WhatsApp-Image-2021-12-02-at-10.11.47.jpeg
END:VEVENT
BEGIN:VEVENT
DTSTART;TZID=UTC:20211201T080000
DTEND;TZID=UTC:20220317T170000
DTSTAMP:20260423T163409
CREATED:20211208T050839Z
LAST-MODIFIED:20211208T050841Z
UID:884-1638345600-1647536400@karenwolf.com.br
SUMMARY:PÓS GRADUAÇÃO LATO SENSU EM DIREITO ANIMAL E PRÁTICA JUS ANIMALISTA
DESCRIPTION:O Instituto Brasileiro Novas Conexões Educacionais (Ibnce)\, em parceria com a União Cearense das Associações de Ensino Superior (Unice) e Instituto de Ensino Superior de Fortaleza (Iesf)\, está com inscrições abertas para uma segunda turma de pós-graduação lato sensu em direito animal e prática jus animalista. O prazo das inscrições encerra-se em 17 de março de 2022\, momento em que terão início as aulas.\n\nO curso oferta 40 vagas e terá uma duração de 360 horas\, sendo que o objetivo principal é formar profissionais capacitados a compreender a contrução das relações que os seres humanos estabelecem com os animais não humanos.\n\n“Capacitando-os a atuar na área do direito animal com expertise na prática jus animalista\, de modo a fortalecer a defesa dos direitos animais tanto em âmbito judicial quanto extrajudicial”\, menciona a organização do curso.\n\nA pós graduação é coordenada pelo advogado e professor Rogério Rammê\, doutor em direito pela Pontifícia Universidade Católica do Rio Grande do Sul (PUCRS) e conhecido na luta em defesa dos direitos dos animais.\n\nPara mais informações\, acesse este link.
URL:https://karenwolf.com.br/web/eventos/pos-graduacao-lato-sensu-em-direito-animal-e-pratica-jus-animalista/
ATTACH;FMTTYPE=image/jpeg:https://karenwolf.com.br/web/wp-content/uploads/2021/12/132826636626389833.jpg
END:VEVENT
BEGIN:VEVENT
DTSTART;TZID=UTC:20211125T090000
DTEND;TZID=UTC:20211125T190000
DTSTAMP:20260423T163409
CREATED:20211124T022012Z
LAST-MODIFIED:20211124T022014Z
UID:863-1637830800-1637866800@karenwolf.com.br
SUMMARY:II CONGRESSO NACIONAL DE ESTRATÉGIAS LOCAIS PARA A PROMOÇÃO DO BEM ESTAR ANIMAL
DESCRIPTION:O II Congresso Nacional de Estratégias Locais para a Promoção do Bem-Estar Animal\, terá lugar no próximo dia 25 de Novembro de 2021\, das 9h00 às 17h00\, no Centro Cultural Olga Cadaval\, em Sintra. \n \nO Congresso iniciará com o tema “Impacto nos Municípios do Novo Quadro Legal do Programa Nacional para os Animais de Companhia”\, sendo que na sequência serão apresentados projetos que se constituem  enquanto boas práticas na promoção do bem-estar animal. \n \nA entrada no evento é gratuita\, embora subsista a possibilidade de contribuição solidária através da entrega de alimentos para gato/cão que será revertida à cuidadores de animais errantes. \n \nO cartaz será disponibilizado em breve\, mas as inscrições já se encontram abertas neste link.
URL:https://karenwolf.com.br/web/eventos/ii-congresso-nacional-de-estrategias-locais-para-a-promocao-do-bem-estar-animal-2/
ATTACH;FMTTYPE=image/jpeg:https://karenwolf.com.br/web/wp-content/uploads/2021/11/ae98ba39499b0f767a283e5ab57ee282_350x492.jpg
END:VEVENT
BEGIN:VEVENT
DTSTART;TZID=UTC:20211112T103000
DTEND;TZID=UTC:20211112T113000
DTSTAMP:20260423T163409
CREATED:20211030T201011Z
LAST-MODIFIED:20211030T201239Z
UID:826-1636713000-1636716600@karenwolf.com.br
SUMMARY:Constitucionalismo socioambiental e a gramática dos direitos humanos na atuação do MPF
DESCRIPTION:Entre os dias 17 a 19 de novembro\, a Faculdade de Direito de Santa Maria irá realizar a 18ª edição do ENTREMENTES\, evento científico acadêmico realizado anualmente pela instituição. Dentro da progamação do referido evento\, que pode ser conferida aqui\, será realizada a palestra com o tema “Constitucionalismo socioambiental e a gramática dos direitos humanos na atuação do MPF”\, com participação do Procurador da República (MPF) da PRM Marabá/PA Sadi Flores Machado e com a mediação pela Professora Karen Wolf. O evento será relizado de forma totalmente remota\, pelo Google Meet e acessando este link.
URL:https://karenwolf.com.br/web/eventos/constitucionalismo-socioambiental-e-a-gramatica-dos-direitos-humanos-na-atuacao-do-mpf/
ATTACH;FMTTYPE=image/png:https://karenwolf.com.br/web/wp-content/uploads/2021/10/Capturar-1.png
END:VEVENT
BEGIN:VEVENT
DTSTART;TZID=UTC:20211025T190000
DTEND;TZID=UTC:20211025T210000
DTSTAMP:20260423T163409
CREATED:20211026T012712Z
LAST-MODIFIED:20211026T012714Z
UID:811-1635188400-1635195600@karenwolf.com.br
SUMMARY:Identificação de maus tratos e procedimentos legais: empreendimentos de manutenção da fauda
DESCRIPTION:Como parte do curso de capacitação “Identificação de maus tratos e procedimentos legais”\, em 25 de outubro de 2021 ocorrerá a aula “empreendimentos de manutenção da fauda”\, ministrada pelo biólogo Daniel Fernando de Moura\, com mediação pela Professora Karen Wolf.\n\nA aula gravada estará disponível no canal do youtube da ANAA – Associação Nacional de Advogados Animalista\, no link de acesso https://www.youtube.com/channel/UCWnkI-p4THJVWVb0oRN8R_Q.
URL:https://karenwolf.com.br/web/eventos/identificacao-de-maus-tratos-e-procedimentos-legais-empreendimentos-de-manutencao-da-fauda/
ATTACH;FMTTYPE=image/png:https://karenwolf.com.br/web/wp-content/uploads/2021/10/Captura-de-tela-2021-10-25-221343.png
END:VEVENT
BEGIN:VEVENT
DTSTART;TZID=UTC:20210922T190000
DTEND;TZID=UTC:20210922T200000
DTSTAMP:20260423T163409
CREATED:20211022T231734Z
LAST-MODIFIED:20211022T231736Z
UID:768-1632337200-1632340800@karenwolf.com.br
SUMMARY:Responsabilidade social ABMES: Workshop Gente de Responsa
DESCRIPTION:Em referência à Semana da Responsabilidade Social da Associação Brasileira de Mantenedoras de Ensino Superior – ABMES\, da qual a Faculdade de Direito de Santa Maria – FADISMA é associada\, foi organizado o workshop Gente de Responsa\, com trocas de experiências acerca da responsabilidade social no atual cenário social.\n\nPela Professora Karen\, docente na FADISMA\, foram expostas perspectivas relativas ao projeto Gigantes Invioláveis e o seu propósito com a iniciativa\, destacando a importância das práticas extensionistas junto à comunidade.
URL:https://karenwolf.com.br/web/eventos/responsabilidade-social-abmes-workshop-gente-de-responsa/
ATTACH;FMTTYPE=image/jpeg:https://karenwolf.com.br/web/wp-content/uploads/2021/10/gente-de-responsa.jpeg
END:VEVENT
BEGIN:VEVENT
DTSTART;TZID=UTC:20210906T210000
DTEND;TZID=UTC:20210906T220000
DTSTAMP:20260423T163409
CREATED:20211022T235001Z
LAST-MODIFIED:20211022T235003Z
UID:772-1630962000-1630965600@karenwolf.com.br
SUMMARY:Move Live no Instagram
DESCRIPTION:Em 06/09/2021 o MOVE – Ética Animal Espírita promovou uma live com objetivo de tratar do animal não humano no mundo.\n\nNa MOVElive Nat Zagonel\, a Professora Karen tratou sobre o Animal Não Humano e Cosmopolitismo enquanto movimento que busca a solidariedade entre os povos\, partindo de valores como a paz\, a justiça e a dignidade. Amparado nos direitos fundamentais das pessoas – humanas e não humanas – seu objetivo é construir uma sociedade companheira\, com afeto\, para tentar minimizar os impactos das discriminações. O animal não humano nesse cenário é visto como um agente capaz de produzir sentido no planeta e\, como indivíduo digno\, merece ser respeitado e protegido.
URL:https://karenwolf.com.br/web/eventos/move-live-no-instagram/
ATTACH;FMTTYPE=image/jpeg:https://karenwolf.com.br/web/wp-content/uploads/2021/10/WhatsApp-Image-2021-10-22-at-20.41.40.jpeg
END:VEVENT
BEGIN:VEVENT
DTSTART;TZID=UTC:20210816T080000
DTEND;TZID=UTC:20210831T170000
DTSTAMP:20260423T163409
CREATED:20211022T235854Z
LAST-MODIFIED:20211022T235855Z
UID:776-1629100800-1630429200@karenwolf.com.br
SUMMARY:Identificação de maus tratos e procedimentos legais
DESCRIPTION:A ANAA – Associação Nacional de Advogados Animalistas\, em parceria com o Grupo de Pesquisa\, Ensino e Extensão em Ética Animal da Universidade Federal de Uberlândia – UFU\, disponibilizou\, entre os dias 16 e 31 de agosto\, as inscrições para o curso de “Identificação de maus-tratos e procedimentos legais”\, como forma de capacitar a sociedade civil sobre condutas e situações que caracterizam maus-tratos físicos e psicológicos aos animais não-humanos\, além de orientar sobre os procedimentos legais pertinentes ao tema.\n\nA duração do curso se dará entre os dias 02 e 04 de novembro de 2021\, às segundas e quintas feiras\, das 19hs às 21hs.\n\nO curso será on-line e gratuito.
URL:https://karenwolf.com.br/web/eventos/identificacao-de-maus-tratos-e-procedimentos-legais/
ATTACH;FMTTYPE=image/jpeg:https://karenwolf.com.br/web/wp-content/uploads/2021/10/WhatsApp-Image-2021-10-22-at-20.41.40-1.jpeg
END:VEVENT
BEGIN:VEVENT
DTSTART;TZID=UTC:20210710T080000
DTEND;TZID=UTC:20210731T170000
DTSTAMP:20260423T163409
CREATED:20211023T000419Z
LAST-MODIFIED:20211023T000420Z
UID:780-1625904000-1627750800@karenwolf.com.br
SUMMARY:A natureza jurídica dos animais
DESCRIPTION:Curso de capacitação\, desenvolvido pelo Instituto Piracema e com coordenação das professoras Karen Wolf e Waleska Cardoso\, com o objetivo de traçar um panorama acerca da natureza jurídica dos animais.
URL:https://karenwolf.com.br/web/eventos/a-natureza-juridica-dos-animais/
ATTACH;FMTTYPE=image/jpeg:https://karenwolf.com.br/web/wp-content/uploads/2021/10/WhatsApp-Image-2021-10-22-at-20.41.40-2.jpeg
END:VEVENT
BEGIN:VEVENT
DTSTART;TZID=UTC:20180613T080000
DTEND;TZID=UTC:20180615T170000
DTSTAMP:20260423T163409
CREATED:20211022T225350Z
LAST-MODIFIED:20211022T225953Z
UID:762-1528876800-1529082000@karenwolf.com.br
SUMMARY:XXVII Encontro Nacionaldo CONPED - Salvador/BA
DESCRIPTION:Nos dias 13\,14 e 15 de junho de 2018\, Salvador sediou o XXVII Encontro Nacional do CONPEDI\, cujo tema foi “Direito\, Cidade Sustentável e Diversidade Cultural”. Na ocasião\, pela Professora Karen foi abordado o tema dos direitos dos não humanos\, com a apresentação do trabalho entitulado “TENSÃO ENTRE OS SABERES ESQUECIDOS DOS POVOS AUTÓCTONES LATINO AMERICANOS E O SABER HEGEMÔNICO EUROCÊNTRICO: REFORMULAÇÃO DOS DIREITOS DOS ANIMAIS NÃO HUMANOS”. \n 
URL:https://karenwolf.com.br/web/eventos/xxvii-encontro-nacionaldo-conped-salvador-ba/
END:VEVENT
END:VCALENDAR